BEGIN:VCALENDAR
VERSION:2.0
PRODID:-//Farmacia Galvan - ECPv6.15.20//NONSGML v1.0//EN
CALSCALE:GREGORIAN
METHOD:PUBLISH
X-ORIGINAL-URL:https://farmaciagalvan.it
X-WR-CALDESC:Eventi per Farmacia Galvan
REFRESH-INTERVAL;VALUE=DURATION:PT1H
X-Robots-Tag:noindex
X-PUBLISHED-TTL:PT1H
BEGIN:VTIMEZONE
TZID:Europe/Paris
BEGIN:DAYLIGHT
TZOFFSETFROM:+0100
TZOFFSETTO:+0200
TZNAME:CEST
DTSTART:20250330T010000
END:DAYLIGHT
BEGIN:STANDARD
TZOFFSETFROM:+0200
TZOFFSETTO:+0100
TZNAME:CET
DTSTART:20251026T010000
END:STANDARD
BEGIN:DAYLIGHT
TZOFFSETFROM:+0100
TZOFFSETTO:+0200
TZNAME:CEST
DTSTART:20260329T010000
END:DAYLIGHT
BEGIN:STANDARD
TZOFFSETFROM:+0200
TZOFFSETTO:+0100
TZNAME:CET
DTSTART:20261025T010000
END:STANDARD
BEGIN:DAYLIGHT
TZOFFSETFROM:+0100
TZOFFSETTO:+0200
TZNAME:CEST
DTSTART:20270328T010000
END:DAYLIGHT
BEGIN:STANDARD
TZOFFSETFROM:+0200
TZOFFSETTO:+0100
TZNAME:CET
DTSTART:20271031T010000
END:STANDARD
END:VTIMEZONE
BEGIN:VEVENT
DTSTART;TZID=Europe/Paris:20261113T083000
DTEND;TZID=Europe/Paris:20261113T183000
DTSTAMP:20260419T171538
CREATED:20251217T081722Z
LAST-MODIFIED:20251217T081722Z
UID:1624-1794558600-1794594600@farmaciagalvan.it
SUMMARY:Analisi dell'apparato Pilo-Sebaceo con Vital Plus
DESCRIPTION:Il servizio Vital Plus di prevenzione consiste in un controllo del corretto funzionamento dell’apparato pilosebaceo del cuoio capelluto. Il servizio viene effettuato con una visione cutanea dettagliata e personalizzata con il dermovisore x200 effettuata da un Tricologo esperto\, che saprà consigliarti i prodotti ed i consigli più adatti alle tue esigenze. \nI trattamenti vital plus sono cosmeceutici\, dermoaffini e seboaffini ideali per problematiche ricorrenti di capello grasso\, forfora\, prurito e anche di caduta stagionale. Le sostanze funzionali sono di derivazione vegetale\, clinicamente e dermatologicamente testate. I trattamenti vital plus sono microbiologicamente corretti e venduti esclusivamente in Farmacia. \nA cosa serve?\n\nA verificare se gli imbocchi pilosebacei sono liberi per favorire una sana crescita dei capelli.\nIl diametro dei capelli in crescita.\nA individuare alterazioni dello strato corneo\, la presenza di irritazioni o desquamazioni cutanee.\nLa funzionalità delle ghiandole sebacee\, l’eccesso di sebo.\nLa qualità dei bulbi.\nIl corretto nutrimento pilifero.\n\nPrenota qui la tua consulenza gratuita: https://servicesforpharmacies.com/it/datepicker/?code=41025%2001&checkup=live
URL:https://farmaciagalvan.it/evento/analisi-dellapparato-pilo-sebaceo-con-vital-plus-2-2-3-2-2-2-2-2-2-2-2-2-2-2-2/
ATTACH;FMTTYPE=image/png:https://farmaciagalvan.it/wp-content/uploads/2025/07/vitaln-plus-tutti-gli-eventi.png
END:VEVENT
BEGIN:VEVENT
DTSTART;TZID=Europe/Paris:20261204T093000
DTEND;TZID=Europe/Paris:20261204T183000
DTSTAMP:20260419T171538
CREATED:20260319T164320Z
LAST-MODIFIED:20260319T164320Z
UID:1741-1796376600-1796409000@farmaciagalvan.it
SUMMARY:MIAMO BEAUTY EVENT
DESCRIPTION:Miamo Beauty EventPartecipa a un esclusivo evento dedicato alla tua pelle!\nUna Beauty Therapist sarà a tua disposizione per una consulenza personalizzata professionale e approfondita\, con analisi dello stato della pelle e consigli mirati di skincare. \nDurante l’incontro potrai provare un trattamento viso della durata di 30 minuti con i prodotti della linea Miamo. \n✨ Offerta speciale: il trattamento è gratuito con un acquisto minimo di €30 di prodotti. \nSolo durante la giornata dell’evento: \n\n\n-20% su tutta la linea Miamo \n\n\nUn gradito omaggio con i tuoi acquisti \n\n\n\n\n\n\n\n\n\n\nPRENOTA QUI: PRENOTA
URL:https://farmaciagalvan.it/evento/hino-natural-skincare-2-2-3-2-2-2-2-2-2-2-3-2/
LOCATION:Farmacia Galvan\, Viale Trieste 312/A\, Vicenza\, 36100\, Italy
CATEGORIES:Dermocosmesi
ATTACH;FMTTYPE=image/png:https://farmaciagalvan.it/wp-content/uploads/2026/03/miamo-beuaty-room-1.png
ORGANIZER;CN="Farmacia Galvan":MAILTO:info@farmaciagalvan.it
END:VEVENT
BEGIN:VEVENT
DTSTART;TZID=Europe/Paris:20261217T083000
DTEND;TZID=Europe/Paris:20261217T183000
DTSTAMP:20260419T171538
CREATED:20251217T081757Z
LAST-MODIFIED:20251217T081757Z
UID:1626-1797496200-1797532200@farmaciagalvan.it
SUMMARY:Analisi dell'apparato Pilo-Sebaceo con Vital Plus
DESCRIPTION:Il servizio Vital Plus di prevenzione consiste in un controllo del corretto funzionamento dell’apparato pilosebaceo del cuoio capelluto. Il servizio viene effettuato con una visione cutanea dettagliata e personalizzata con il dermovisore x200 effettuata da un Tricologo esperto\, che saprà consigliarti i prodotti ed i consigli più adatti alle tue esigenze. \nI trattamenti vital plus sono cosmeceutici\, dermoaffini e seboaffini ideali per problematiche ricorrenti di capello grasso\, forfora\, prurito e anche di caduta stagionale. Le sostanze funzionali sono di derivazione vegetale\, clinicamente e dermatologicamente testate. I trattamenti vital plus sono microbiologicamente corretti e venduti esclusivamente in Farmacia. \nA cosa serve?\n\nA verificare se gli imbocchi pilosebacei sono liberi per favorire una sana crescita dei capelli.\nIl diametro dei capelli in crescita.\nA individuare alterazioni dello strato corneo\, la presenza di irritazioni o desquamazioni cutanee.\nLa funzionalità delle ghiandole sebacee\, l’eccesso di sebo.\nLa qualità dei bulbi.\nIl corretto nutrimento pilifero.\n\nPrenota qui la tua consulenza gratuita: https://servicesforpharmacies.com/it/datepicker/?code=41025%2001&checkup=live
URL:https://farmaciagalvan.it/evento/analisi-dellapparato-pilo-sebaceo-con-vital-plus-2-2-3-2-2-2-2-2-2-2-2-2-2-2-2-2/
ATTACH;FMTTYPE=image/png:https://farmaciagalvan.it/wp-content/uploads/2025/07/vitaln-plus-tutti-gli-eventi.png
END:VEVENT
END:VCALENDAR