BEGIN:VCALENDAR
VERSION:2.0
PRODID:-//Farmacia Galvan - ECPv6.15.20//NONSGML v1.0//EN
CALSCALE:GREGORIAN
METHOD:PUBLISH
X-WR-CALNAME:Farmacia Galvan
X-ORIGINAL-URL:https://farmaciagalvan.it
X-WR-CALDESC:Eventi per Farmacia Galvan
REFRESH-INTERVAL;VALUE=DURATION:PT1H
X-Robots-Tag:noindex
X-PUBLISHED-TTL:PT1H
BEGIN:VTIMEZONE
TZID:Europe/Paris
BEGIN:DAYLIGHT
TZOFFSETFROM:+0100
TZOFFSETTO:+0200
TZNAME:CEST
DTSTART:20240331T010000
END:DAYLIGHT
BEGIN:STANDARD
TZOFFSETFROM:+0200
TZOFFSETTO:+0100
TZNAME:CET
DTSTART:20241027T010000
END:STANDARD
BEGIN:DAYLIGHT
TZOFFSETFROM:+0100
TZOFFSETTO:+0200
TZNAME:CEST
DTSTART:20250330T010000
END:DAYLIGHT
BEGIN:STANDARD
TZOFFSETFROM:+0200
TZOFFSETTO:+0100
TZNAME:CET
DTSTART:20251026T010000
END:STANDARD
BEGIN:DAYLIGHT
TZOFFSETFROM:+0100
TZOFFSETTO:+0200
TZNAME:CEST
DTSTART:20260329T010000
END:DAYLIGHT
BEGIN:STANDARD
TZOFFSETFROM:+0200
TZOFFSETTO:+0100
TZNAME:CET
DTSTART:20261025T010000
END:STANDARD
END:VTIMEZONE
BEGIN:VEVENT
DTSTART;TZID=Europe/Paris:20250227T080000
DTEND;TZID=Europe/Paris:20250227T183000
DTSTAMP:20260420T091340
CREATED:20250226T103341Z
LAST-MODIFIED:20250226T104245Z
UID:1116-1740643200-1740681000@farmaciagalvan.it
SUMMARY:Analisi dell'apparato pilo-sebaceo con Vital Plus
DESCRIPTION:Il servizio Vital Plus di prevenzione consiste in un controllo del corretto funzionamento dell’apparato pilosebaceo del cuoio capelluto. Il servizio viene effettuato con una visione cutanea dettagliata e personalizzata con il dermovisore x200 effettuata da un Tricologo esperto\, che saprà consigliarti i prodotti ed i consigli più adatti alle tue esigenze. \nI trattamenti vital plus sono cosmeceutici\, dermoaffini e seboaffini ideali per problematiche ricorrenti di capello grasso\, forfora\, prurito e anche di caduta stagionale. Le sostanze funzionali sono di derivazione vegetale\, clinicamente e dermatologicamente testate. I trattamenti vital plus sono microbiologicamente corretti e venduti esclusivamente in Farmacia. \nA cosa serve?\n\nA verificare se gli imbocchi pilosebacei sono liberi per favorire una sana crescita dei capelli.\nIl diametro dei capelli in crescita.\nA individuare alterazioni dello strato corneo\, la presenza di irritazioni o desquamazioni cutanee.\nLa funzionalità delle ghiandole sebacee\, l’eccesso di sebo.\nLa qualità dei bulbi.\nIl corretto nutrimento pilifero.\n\nPrenota qui la tua consulenza gratuita: https://servicesforpharmacies.com/it/datepicker/?code=41025%2001&checkup=live
URL:https://farmaciagalvan.it/evento/analisi-dellapparato-pilo-sebaceo-con-vital-plus/
END:VEVENT
BEGIN:VEVENT
DTSTART;TZID=Europe/Paris:20250219T100000
DTEND;TZID=Europe/Paris:20250219T183000
DTSTAMP:20260420T091340
CREATED:20250204T082500Z
LAST-MODIFIED:20250221T164857Z
UID:754-1739959200-1739989800@farmaciagalvan.it
SUMMARY:HINÒ NATURAL SKINCARE
DESCRIPTION:Hai sempre voluto comprendere a fondo le esigenze della tua pelle? Desideri scoprire i segreti per ottenere un viso luminoso e radioso? Prenota allora l’analisi dettagliata della pelle con il dispositivo 𝙎𝙠𝙞𝙣 𝘼𝙣𝙖𝙡𝙮𝙯𝙚𝙧. \nCon SKIN ANALYZER\, puoi esaminare la tua pelle attraverso un sistema di 3 lampade a base di luce bianca\, ultravioletti e luce polarizzata. Le immagini rilevate creeranno 10 parametri di valutazione oggettiva e dettagliata dello stato cutaneo. Potrai così ricevere consigli personalizzati in base alle tue caratteristiche. La durata del servizio è di 20 minuti ed è gratuito. \nSe invece conosci già la linea e desideri provare i prodotti più adeguati direttamente sulla tua pelle\, puoi prenotare un mini trattamento viso nella nostra Beauty Room con la Beauty Specialist Hinò Skin Care. La durata del servizio è di 30 minuti e si richiede l’acquisto min. di 30€ sui prodotti consigliati. \nDurante la giornata sconto del -20% su tutta la linea. \nPRENOTA
URL:https://farmaciagalvan.it/evento/hino-natural-skincare/
LOCATION:Farmacia Galvan\, Viale Trieste 312/A\, Vicenza\, 36100\, Italy
CATEGORIES:Dermocosmesi
ATTACH;FMTTYPE=image/webp:https://farmaciagalvan.it/wp-content/uploads/2025/02/Logo_Hino_nero.webp
ORGANIZER;CN="Farmacia Galvan":MAILTO:info@farmaciagalvan.it
END:VEVENT
BEGIN:VEVENT
DTSTART;TZID=Europe/Paris:20250215T100000
DTEND;TZID=Europe/Paris:20250215T113000
DTSTAMP:20260420T091340
CREATED:20250211T110850Z
LAST-MODIFIED:20250212T090043Z
UID:1045-1739613600-1739619000@farmaciagalvan.it
SUMMARY:Vorresti tornare in forma? Scopri il metodo SLIM FAST
DESCRIPTION:Scopri l’eccezionale promozione riservata ai partecipanti della giornata SLIM FAST. \nLa partecipazione è gratuita\, ma i posti sono limitati!  \nPRENOTA
URL:https://farmaciagalvan.it/evento/vorresti-tornare-in-forma-scopri-il-metodo-slim-fast/
LOCATION:Farmacia Galvan\, Viale Trieste 312/A\, Vicenza\, 36100\, Italy
CATEGORIES:Dietistica
ATTACH;FMTTYPE=image/jpeg:https://farmaciagalvan.it/wp-content/uploads/2025/02/slim-fast-15-febb-Post-Instagram.jpg
END:VEVENT
END:VCALENDAR