BEGIN:VCALENDAR
VERSION:2.0
PRODID:-//Farmacia Galvan - ECPv6.15.20//NONSGML v1.0//EN
CALSCALE:GREGORIAN
METHOD:PUBLISH
X-ORIGINAL-URL:https://farmaciagalvan.it
X-WR-CALDESC:Eventi per Farmacia Galvan
REFRESH-INTERVAL;VALUE=DURATION:PT1H
X-Robots-Tag:noindex
X-PUBLISHED-TTL:PT1H
BEGIN:VTIMEZONE
TZID:Europe/Paris
BEGIN:DAYLIGHT
TZOFFSETFROM:+0100
TZOFFSETTO:+0200
TZNAME:CEST
DTSTART:20240331T010000
END:DAYLIGHT
BEGIN:STANDARD
TZOFFSETFROM:+0200
TZOFFSETTO:+0100
TZNAME:CET
DTSTART:20241027T010000
END:STANDARD
BEGIN:DAYLIGHT
TZOFFSETFROM:+0100
TZOFFSETTO:+0200
TZNAME:CEST
DTSTART:20250330T010000
END:DAYLIGHT
BEGIN:STANDARD
TZOFFSETFROM:+0200
TZOFFSETTO:+0100
TZNAME:CET
DTSTART:20251026T010000
END:STANDARD
BEGIN:DAYLIGHT
TZOFFSETFROM:+0100
TZOFFSETTO:+0200
TZNAME:CEST
DTSTART:20260329T010000
END:DAYLIGHT
BEGIN:STANDARD
TZOFFSETFROM:+0200
TZOFFSETTO:+0100
TZNAME:CET
DTSTART:20261025T010000
END:STANDARD
END:VTIMEZONE
BEGIN:VEVENT
DTSTART;TZID=Europe/Paris:20250215T100000
DTEND;TZID=Europe/Paris:20250215T113000
DTSTAMP:20260420T043321
CREATED:20250211T110850Z
LAST-MODIFIED:20250212T090043Z
UID:1045-1739613600-1739619000@farmaciagalvan.it
SUMMARY:Vorresti tornare in forma? Scopri il metodo SLIM FAST
DESCRIPTION:Scopri l’eccezionale promozione riservata ai partecipanti della giornata SLIM FAST. \nLa partecipazione è gratuita\, ma i posti sono limitati!  \nPRENOTA
URL:https://farmaciagalvan.it/evento/vorresti-tornare-in-forma-scopri-il-metodo-slim-fast/
LOCATION:Farmacia Galvan\, Viale Trieste 312/A\, Vicenza\, 36100\, Italy
CATEGORIES:Dietistica
ATTACH;FMTTYPE=image/jpeg:https://farmaciagalvan.it/wp-content/uploads/2025/02/slim-fast-15-febb-Post-Instagram.jpg
END:VEVENT
END:VCALENDAR