BEGIN:VCALENDAR
VERSION:2.0
PRODID:-//Farmacia Galvan - ECPv6.15.20//NONSGML v1.0//EN
CALSCALE:GREGORIAN
METHOD:PUBLISH
X-ORIGINAL-URL:https://farmaciagalvan.it
X-WR-CALDESC:Eventi per Farmacia Galvan
REFRESH-INTERVAL;VALUE=DURATION:PT1H
X-Robots-Tag:noindex
X-PUBLISHED-TTL:PT1H
BEGIN:VTIMEZONE
TZID:Europe/Paris
BEGIN:DAYLIGHT
TZOFFSETFROM:+0100
TZOFFSETTO:+0200
TZNAME:CEST
DTSTART:20240331T010000
END:DAYLIGHT
BEGIN:STANDARD
TZOFFSETFROM:+0200
TZOFFSETTO:+0100
TZNAME:CET
DTSTART:20241027T010000
END:STANDARD
BEGIN:DAYLIGHT
TZOFFSETFROM:+0100
TZOFFSETTO:+0200
TZNAME:CEST
DTSTART:20250330T010000
END:DAYLIGHT
BEGIN:STANDARD
TZOFFSETFROM:+0200
TZOFFSETTO:+0100
TZNAME:CET
DTSTART:20251026T010000
END:STANDARD
BEGIN:DAYLIGHT
TZOFFSETFROM:+0100
TZOFFSETTO:+0200
TZNAME:CEST
DTSTART:20260329T010000
END:DAYLIGHT
BEGIN:STANDARD
TZOFFSETFROM:+0200
TZOFFSETTO:+0100
TZNAME:CET
DTSTART:20261025T010000
END:STANDARD
END:VTIMEZONE
BEGIN:VEVENT
DTSTART;TZID=Europe/Paris:20251112T093000
DTEND;TZID=Europe/Paris:20251112T180000
DTSTAMP:20260419T142157
CREATED:20250827T093635Z
LAST-MODIFIED:20250827T093635Z
UID:1389-1762939800-1762970400@farmaciagalvan.it
SUMMARY:Giornata Bionike Cosmeceutical & Make UP
DESCRIPTION:Giornata Beauty con Bionike in Farmacia! \nTi aspettiamo per un’esperienza di bellezza esclusiva con Bionike! Durante la giornata\, il nostro consulente Beauty sarà a tua disposizione per: \n💆‍♀️ Mini trattamenti viso da 30 minuti con i protocolli di biorivitalizzazione della linea Cosmeceutical 💡 Make Up Personalizzato  \nScegli il tuo servizio e prentalo qui: https://farmaciagalvan.it/servizi/ \nDove: Farmacia Galvan\, Viale Trieste 312 – VicenzaQuando: Giovedì 31 LuglioTi aspettiamo per prenderci cura della tua bellezza! 💖 \n \n 
URL:https://farmaciagalvan.it/evento/giornata-bionike-12-marzo-2-2-3/
ATTACH;FMTTYPE=image/png:https://farmaciagalvan.it/wp-content/uploads/2025/08/Bionike-giornate-12-nov.png
END:VEVENT
END:VCALENDAR