BEGIN:VCALENDAR
VERSION:2.0
PRODID:-//Farmacia Galvan - ECPv6.15.20//NONSGML v1.0//EN
CALSCALE:GREGORIAN
METHOD:PUBLISH
X-ORIGINAL-URL:https://farmaciagalvan.it
X-WR-CALDESC:Eventi per Farmacia Galvan
REFRESH-INTERVAL;VALUE=DURATION:PT1H
X-Robots-Tag:noindex
X-PUBLISHED-TTL:PT1H
BEGIN:VTIMEZONE
TZID:Europe/Paris
BEGIN:DAYLIGHT
TZOFFSETFROM:+0100
TZOFFSETTO:+0200
TZNAME:CEST
DTSTART:20240331T010000
END:DAYLIGHT
BEGIN:STANDARD
TZOFFSETFROM:+0200
TZOFFSETTO:+0100
TZNAME:CET
DTSTART:20241027T010000
END:STANDARD
BEGIN:DAYLIGHT
TZOFFSETFROM:+0100
TZOFFSETTO:+0200
TZNAME:CEST
DTSTART:20250330T010000
END:DAYLIGHT
BEGIN:STANDARD
TZOFFSETFROM:+0200
TZOFFSETTO:+0100
TZNAME:CET
DTSTART:20251026T010000
END:STANDARD
BEGIN:DAYLIGHT
TZOFFSETFROM:+0100
TZOFFSETTO:+0200
TZNAME:CEST
DTSTART:20260329T010000
END:DAYLIGHT
BEGIN:STANDARD
TZOFFSETFROM:+0200
TZOFFSETTO:+0100
TZNAME:CET
DTSTART:20261025T010000
END:STANDARD
END:VTIMEZONE
BEGIN:VEVENT
DTSTART;TZID=Europe/Paris:20250609T083000
DTEND;TZID=Europe/Paris:20250614T190000
DTSTAMP:20260419T160335
CREATED:20250204T091110Z
LAST-MODIFIED:20250607T072004Z
UID:785-1749457800-1749927600@farmaciagalvan.it
SUMMARY:SOHA SARDINIA settimana della bellezza
DESCRIPTION:Settimana dedicata alla bellezza con i prodotti Soha Sardinia! Troverai tutto il brand con il -20% dal 9 al 14 Giugno! \nPrenditi cura della pelle con sensorialità e naturalezza
URL:https://farmaciagalvan.it/evento/giornata-soha-sardinia-2/
LOCATION:Farmacia Galvan\, Viale Trieste 312/A\, Vicenza\, 36100\, Italy
CATEGORIES:Dermocosmesi
ATTACH;FMTTYPE=image/jpeg:https://farmaciagalvan.it/wp-content/uploads/2025/02/Copia-di-Skincare-Post-Instagram-45.jpg
ORGANIZER;CN="Farmacia Galvan":MAILTO:info@farmaciagalvan.it
END:VEVENT
END:VCALENDAR