BEGIN:VCALENDAR
VERSION:2.0
PRODID:-//Farmacia Galvan - ECPv6.15.20//NONSGML v1.0//EN
CALSCALE:GREGORIAN
METHOD:PUBLISH
X-WR-CALNAME:Farmacia Galvan
X-ORIGINAL-URL:https://farmaciagalvan.it
X-WR-CALDESC:Eventi per Farmacia Galvan
REFRESH-INTERVAL;VALUE=DURATION:PT1H
X-Robots-Tag:noindex
X-PUBLISHED-TTL:PT1H
BEGIN:VTIMEZONE
TZID:Europe/Paris
BEGIN:DAYLIGHT
TZOFFSETFROM:+0100
TZOFFSETTO:+0200
TZNAME:CEST
DTSTART:20240331T010000
END:DAYLIGHT
BEGIN:STANDARD
TZOFFSETFROM:+0200
TZOFFSETTO:+0100
TZNAME:CET
DTSTART:20241027T010000
END:STANDARD
BEGIN:DAYLIGHT
TZOFFSETFROM:+0100
TZOFFSETTO:+0200
TZNAME:CEST
DTSTART:20250330T010000
END:DAYLIGHT
BEGIN:STANDARD
TZOFFSETFROM:+0200
TZOFFSETTO:+0100
TZNAME:CET
DTSTART:20251026T010000
END:STANDARD
BEGIN:DAYLIGHT
TZOFFSETFROM:+0100
TZOFFSETTO:+0200
TZNAME:CEST
DTSTART:20260329T010000
END:DAYLIGHT
BEGIN:STANDARD
TZOFFSETFROM:+0200
TZOFFSETTO:+0100
TZNAME:CET
DTSTART:20261025T010000
END:STANDARD
END:VTIMEZONE
BEGIN:VEVENT
DTSTART;TZID=Europe/Paris:20250527T080000
DTEND;TZID=Europe/Paris:20250527T170000
DTSTAMP:20260419T160218
CREATED:20250318T154757Z
LAST-MODIFIED:20250318T161123Z
UID:1172-1748332800-1748365200@farmaciagalvan.it
SUMMARY:Eucerin Beauty Day
DESCRIPTION:Prendersi cura della pelle del viso: la skincare routine quotidiana\, mattina e sera\n\n\n\n\n\nLa skincare routine è un’alleata fondamentale per una pelle bella e in salute\, ma è anche una coccola quotidiana per prendersi cura di sè e sentirsi al meglio Ma la skincare cos’è esattamente? Si tratta di una routine giornaliera per la cura della pelle del viso che ha vari passaggi\, dalla detersione\, all’idratazione\, fino all’applicazione di prodotti specifici in base alle esigenze della propria pelle. La detersione profonda e delicata e una buona cura della pelle aiutano a mantenerla sana. I prodotti di qualità\, scelti per soddisfare i bisogni specifici del tuo tipo di pelle e dei problemi cutanei\, possono proteggere la pelle del viso dai danni causati dagli agenti esterni come il sole\, i climi caldi e freddi e l’inquinamento atmosferico. \nLa skincare routine viso\, quindi\, aiuta ad avere una pelle sana e luminosa\, ma anche a prevenire l’insorgenza di inestetismi\, patologie cutanee e segni dell’età\, a prendersi cura di particolari condizioni della pelle e a sentirsi meglio con sè stessi e con gli altri. Vediamo insieme come fare la skincare routine\, i passaggi mattina e sera e come personalizzare la propria beauty routine viso con i prodotti migliori. \n\n\n\n\n\n\n1° step skincare: Detersione e tonificazione del viso \n2° step skincare: Nutrire e trattare la pelle\n3° Step skincare: Protezione solare\n\nTi aspettiamo Martedì 27 Maggio con i consigli della beuty Specilist Eucerin e sconti speciali!
URL:https://farmaciagalvan.it/evento/eucerin-beauty-day-2/
END:VEVENT
END:VCALENDAR