BEGIN:VCALENDAR
VERSION:2.0
PRODID:-//Farmacia Galvan - ECPv6.15.20//NONSGML v1.0//EN
CALSCALE:GREGORIAN
METHOD:PUBLISH
X-ORIGINAL-URL:https://farmaciagalvan.it
X-WR-CALDESC:Eventi per Farmacia Galvan
REFRESH-INTERVAL;VALUE=DURATION:PT1H
X-Robots-Tag:noindex
X-PUBLISHED-TTL:PT1H
BEGIN:VTIMEZONE
TZID:Europe/Paris
BEGIN:DAYLIGHT
TZOFFSETFROM:+0100
TZOFFSETTO:+0200
TZNAME:CEST
DTSTART:20240331T010000
END:DAYLIGHT
BEGIN:STANDARD
TZOFFSETFROM:+0200
TZOFFSETTO:+0100
TZNAME:CET
DTSTART:20241027T010000
END:STANDARD
BEGIN:DAYLIGHT
TZOFFSETFROM:+0100
TZOFFSETTO:+0200
TZNAME:CEST
DTSTART:20250330T010000
END:DAYLIGHT
BEGIN:STANDARD
TZOFFSETFROM:+0200
TZOFFSETTO:+0100
TZNAME:CET
DTSTART:20251026T010000
END:STANDARD
BEGIN:DAYLIGHT
TZOFFSETFROM:+0100
TZOFFSETTO:+0200
TZNAME:CEST
DTSTART:20260329T010000
END:DAYLIGHT
BEGIN:STANDARD
TZOFFSETFROM:+0200
TZOFFSETTO:+0100
TZNAME:CET
DTSTART:20261025T010000
END:STANDARD
END:VTIMEZONE
BEGIN:VEVENT
DTSTART;TZID=Europe/Paris:20250517T143000
DTEND;TZID=Europe/Paris:20250517T170000
DTSTAMP:20260419T174922
CREATED:20250321T081801Z
LAST-MODIFIED:20250422T065914Z
UID:1193-1747492200-1747501200@farmaciagalvan.it
SUMMARY:Make Up School di Armocromia
DESCRIPTION:Makeup & Armocromia: Impara come abbinare il make up alla tua stagione armocromatica.\nSabato 17 maggio dalle 14.30 alle 17.00\nL’incontro di 2 ore e mezza ore affronterà argomenti teorici molto in voga tra cui l’analisi coloristica del volto per poi passare alle tecniche di makeup applicate in chiave armocromatica\, senza dimenticare la necessità di mantenere un’identità separata\, ma complementare. La lezione sarà tenuta dal make Up Artist Rouji X Liu Jo.\n\nChe cosa faremo?\n\nTeoria del colore\, le 4 stagioni\nEsempi di alcuni make up su alcune STAR\nanalisi armocromatica su se stesse da struccate\nesecuzione del makeup in chiave armocromatica\n domande e confronti\n\nModalità di Iscrizione: \n\nAccedi al link per iscriverti: https://farmaciagalvan.it/corsi/\nPassa in farmacia e deposita un acconto di € 30 per confermare il tuo posto. L’acconto sarà poi reso sugli eventuali prodotti acquistati durante la giornata\nPer tutte le partecipanti ci sarà un gradito omaggio\nSconto su tutta la linea di make up Rouji X Liu Jo del -30% sull’acquisto minimo di 2 prodotti\nil corso avrà una durata di 2 ore mezza. Si consiglia di calcolare una mezzoretta in più per eventuali acquisti e domande al Make Up Artist\nNumero max di partecipanti 6
URL:https://farmaciagalvan.it/evento/make-up-school-di-armocromia/
END:VEVENT
END:VCALENDAR