BEGIN:VCALENDAR
VERSION:2.0
PRODID:-//Farmacia Galvan - ECPv6.15.20//NONSGML v1.0//EN
CALSCALE:GREGORIAN
METHOD:PUBLISH
X-WR-CALNAME:Farmacia Galvan
X-ORIGINAL-URL:https://farmaciagalvan.it
X-WR-CALDESC:Eventi per Farmacia Galvan
REFRESH-INTERVAL;VALUE=DURATION:PT1H
X-Robots-Tag:noindex
X-PUBLISHED-TTL:PT1H
BEGIN:VTIMEZONE
TZID:Europe/Paris
BEGIN:DAYLIGHT
TZOFFSETFROM:+0100
TZOFFSETTO:+0200
TZNAME:CEST
DTSTART:20240331T010000
END:DAYLIGHT
BEGIN:STANDARD
TZOFFSETFROM:+0200
TZOFFSETTO:+0100
TZNAME:CET
DTSTART:20241027T010000
END:STANDARD
BEGIN:DAYLIGHT
TZOFFSETFROM:+0100
TZOFFSETTO:+0200
TZNAME:CEST
DTSTART:20250330T010000
END:DAYLIGHT
BEGIN:STANDARD
TZOFFSETFROM:+0200
TZOFFSETTO:+0100
TZNAME:CET
DTSTART:20251026T010000
END:STANDARD
BEGIN:DAYLIGHT
TZOFFSETFROM:+0100
TZOFFSETTO:+0200
TZNAME:CEST
DTSTART:20260329T010000
END:DAYLIGHT
BEGIN:STANDARD
TZOFFSETFROM:+0200
TZOFFSETTO:+0100
TZNAME:CET
DTSTART:20261025T010000
END:STANDARD
END:VTIMEZONE
BEGIN:VEVENT
DTSTART;TZID=Europe/Paris:20250512T143000
DTEND;TZID=Europe/Paris:20250512T190000
DTSTAMP:20260419T174909
CREATED:20250226T111745Z
LAST-MODIFIED:20250226T111745Z
UID:1131-1747060200-1747076400@farmaciagalvan.it
SUMMARY:Analisi Posturale del Piede
DESCRIPTION:Analisi postura con pedana baropodometrica. \nDolore ai piedi? La postura scorretta può mettere un carico eccessivo sulla fascia plantare. Ad esempio\, se siamo soliti camminare con le spalle curve o la schiena arcuata in avanti\, ciò può alterare l’allineamento del corpo e influire sulla distribuzione del peso sui piedi. Se cerchi quindi una soluzione per problemi alla schiena\, all’anca o al ginocchio\, prenota l’esame posturale del piede con un esperto in fisiopostura. Attraverso la realizzazione di un Pantare 3D personalizzato\, potrai avere una guida biomeccanica dal piede alla colonna vertebrale e aiutare ad avere una postura corretta e mettere fine alla sofferenza. \nCOSTO EVENTUALE DEL PLANTARE (DETRAIBILE): \nMORFOLOGICO €160\,00 – PROPRICETTIVO €240.00 \nPrenota qui : https://farmaciagalvan.it/servizi/altri-servizi/
URL:https://farmaciagalvan.it/evento/analisi-posturale-del-piede-2/
END:VEVENT
END:VCALENDAR