BEGIN:VCALENDAR
VERSION:2.0
PRODID:-//Farmacia Galvan - ECPv6.15.20//NONSGML v1.0//EN
CALSCALE:GREGORIAN
METHOD:PUBLISH
X-WR-CALNAME:Farmacia Galvan
X-ORIGINAL-URL:https://farmaciagalvan.it
X-WR-CALDESC:Eventi per Farmacia Galvan
REFRESH-INTERVAL;VALUE=DURATION:PT1H
X-Robots-Tag:noindex
X-PUBLISHED-TTL:PT1H
BEGIN:VTIMEZONE
TZID:Europe/Paris
BEGIN:DAYLIGHT
TZOFFSETFROM:+0100
TZOFFSETTO:+0200
TZNAME:CEST
DTSTART:20240331T010000
END:DAYLIGHT
BEGIN:STANDARD
TZOFFSETFROM:+0200
TZOFFSETTO:+0100
TZNAME:CET
DTSTART:20241027T010000
END:STANDARD
BEGIN:DAYLIGHT
TZOFFSETFROM:+0100
TZOFFSETTO:+0200
TZNAME:CEST
DTSTART:20250330T010000
END:DAYLIGHT
BEGIN:STANDARD
TZOFFSETFROM:+0200
TZOFFSETTO:+0100
TZNAME:CET
DTSTART:20251026T010000
END:STANDARD
BEGIN:DAYLIGHT
TZOFFSETFROM:+0100
TZOFFSETTO:+0200
TZNAME:CEST
DTSTART:20260329T010000
END:DAYLIGHT
BEGIN:STANDARD
TZOFFSETFROM:+0200
TZOFFSETTO:+0100
TZNAME:CET
DTSTART:20261025T010000
END:STANDARD
END:VTIMEZONE
BEGIN:VEVENT
DTSTART;TZID=Europe/Paris:20250505T083000
DTEND;TZID=Europe/Paris:20250509T103000
DTSTAMP:20260419T174908
CREATED:20250409T084909Z
LAST-MODIFIED:20250409T091838Z
UID:1201-1746433800-1746786600@farmaciagalvan.it
SUMMARY:Ferritina + Check Up Salute Cuore
DESCRIPTION:Dal 5 al 9 Maggio in occasione delle Giornate sulla Prevenzione\, sarà possibile eseguire  l’esame della Ferritina e del Check Up cuore a soli € 30. \nA cosa serve l’esame della Ferritina?\n\n\n\n\nLa ferritina è la proteina preposta ad immagazzinare la giusta quantità di ferro costituendo un vero e proprio deposito di questo minerale nel nostro organismo: la valutazione del suo dosaggio è un parametro importante per conoscere quanto ferro di riserva abbiamo a disposizione.\n\n\n\nIn cosa consiste il Check Up del Cuore?\nRileva i seguenti parametri: \n\nAST: Aspartato transaminasi\nCHOL: Colesterolo\nTG: Trigliceridi\nHCY: Omocosteina\nHDL-C: Colesterolo HDL\nLDL-C: Colesterolo LDL\nCK: Creatina Chinasi\nCK-MB: Creatina chinasi MB\nLDH: Lattico deidrogenasi\nA-HBDH: Altra idrossibutirrato deidrohenasi sierica\n\n\n\n\nPrenota qui il tuo esame e ricorda di venire a digiuno: https://shop-diagnosti.care/products/giornata-prevenzione-mix?variant=54288255517020
URL:https://farmaciagalvan.it/evento/analisi-dellapparato-pilo-sebaceo-con-vital-plus-2-2-2/
END:VEVENT
END:VCALENDAR