BEGIN:VCALENDAR
VERSION:2.0
PRODID:-//Farmacia Galvan - ECPv6.15.20//NONSGML v1.0//EN
CALSCALE:GREGORIAN
METHOD:PUBLISH
X-WR-CALNAME:Farmacia Galvan
X-ORIGINAL-URL:https://farmaciagalvan.it
X-WR-CALDESC:Eventi per Farmacia Galvan
REFRESH-INTERVAL;VALUE=DURATION:PT1H
X-Robots-Tag:noindex
X-PUBLISHED-TTL:PT1H
BEGIN:VTIMEZONE
TZID:Europe/Paris
BEGIN:DAYLIGHT
TZOFFSETFROM:+0100
TZOFFSETTO:+0200
TZNAME:CEST
DTSTART:20240331T010000
END:DAYLIGHT
BEGIN:STANDARD
TZOFFSETFROM:+0200
TZOFFSETTO:+0100
TZNAME:CET
DTSTART:20241027T010000
END:STANDARD
BEGIN:DAYLIGHT
TZOFFSETFROM:+0100
TZOFFSETTO:+0200
TZNAME:CEST
DTSTART:20250330T010000
END:DAYLIGHT
BEGIN:STANDARD
TZOFFSETFROM:+0200
TZOFFSETTO:+0100
TZNAME:CET
DTSTART:20251026T010000
END:STANDARD
BEGIN:DAYLIGHT
TZOFFSETFROM:+0100
TZOFFSETTO:+0200
TZNAME:CEST
DTSTART:20260329T010000
END:DAYLIGHT
BEGIN:STANDARD
TZOFFSETFROM:+0200
TZOFFSETTO:+0100
TZNAME:CET
DTSTART:20261025T010000
END:STANDARD
END:VTIMEZONE
BEGIN:VEVENT
DTSTART;TZID=Europe/Paris:20250422T080000
DTEND;TZID=Europe/Paris:20250422T190000
DTSTAMP:20260419T205555
CREATED:20250318T154016Z
LAST-MODIFIED:20250318T154016Z
UID:1168-1745308800-1745348400@farmaciagalvan.it
SUMMARY:MAG RICARICA - integratore per stanchezza e affaticamento
DESCRIPTION:Martedì 22 Aprile\, giornata di promozione MAG RICARICA\nIn caso di stanchezza e affaticamento\, un elemento che può venire in nostro aiuto è il magnesio: c’è uno stretto legame tra stanchezza e magnesio. Il magnesio è un minerale essenziale per il funzionamento del nostro organismo ed è uno degli oligoelementi più importanti per il nostro benessere: ha un ruolo fondamentale nei processi metabolici dei principali micro e macro nutrienti\, aiuta quindi a produrre energia\, conservarla e usarla nel modo giusto. Per questo\, quando ci sentiamo stanchi\, può essere utile integrare magnesio. \nMag Ricarica è un integratore alimentare a base di componenti dall’azione sinergica per favorire il recupero da stanchezza\, ricaricando corpo e mente. La sua formulazione Mag absorption system\, contiene Sali di magnesio – Magnesio Pidolato e Magnesio ossido – ad assorbimento differenziato e Vitamina B6. \n\n\n\nI sali di magnesio contenuti in Mag Ricarica sono stati specificamente selezionati perché hanno tempi di assorbimento differenti tra loro: il magnesio pidolato è caratterizzato da un alto e rapido assorbimento e il magnesio ossido ha invece un assorbimento più lento. Questi sali di magnesio  aiutano ad integrare l’esigenza di magnesio con un’unica assunzione giornaliera. ​\n\n\nLa Vitamina B6\, presente nella formulazione di Mag Ricarica\, ha un’azione sinergica nel ridurre stanchezza e affaticamento. Questa\, oltre a coadiuvare l’azione del magnesio\, ne facilita ulteriormente l’assorbimento
URL:https://farmaciagalvan.it/evento/mag-ricarica-integratore-per-stanchezza-e-affaticamento/
END:VEVENT
END:VCALENDAR