BEGIN:VCALENDAR
VERSION:2.0
PRODID:-//Farmacia Galvan - ECPv6.15.20//NONSGML v1.0//EN
CALSCALE:GREGORIAN
METHOD:PUBLISH
X-WR-CALNAME:Farmacia Galvan
X-ORIGINAL-URL:https://farmaciagalvan.it
X-WR-CALDESC:Eventi per Farmacia Galvan
REFRESH-INTERVAL;VALUE=DURATION:PT1H
X-Robots-Tag:noindex
X-PUBLISHED-TTL:PT1H
BEGIN:VTIMEZONE
TZID:Europe/Paris
BEGIN:DAYLIGHT
TZOFFSETFROM:+0100
TZOFFSETTO:+0200
TZNAME:CEST
DTSTART:20240331T010000
END:DAYLIGHT
BEGIN:STANDARD
TZOFFSETFROM:+0200
TZOFFSETTO:+0100
TZNAME:CET
DTSTART:20241027T010000
END:STANDARD
BEGIN:DAYLIGHT
TZOFFSETFROM:+0100
TZOFFSETTO:+0200
TZNAME:CEST
DTSTART:20250330T010000
END:DAYLIGHT
BEGIN:STANDARD
TZOFFSETFROM:+0200
TZOFFSETTO:+0100
TZNAME:CET
DTSTART:20251026T010000
END:STANDARD
BEGIN:DAYLIGHT
TZOFFSETFROM:+0100
TZOFFSETTO:+0200
TZNAME:CEST
DTSTART:20260329T010000
END:DAYLIGHT
BEGIN:STANDARD
TZOFFSETFROM:+0200
TZOFFSETTO:+0100
TZNAME:CET
DTSTART:20261025T010000
END:STANDARD
END:VTIMEZONE
BEGIN:VEVENT
DTSTART;TZID=Europe/Paris:20250415T090000
DTEND;TZID=Europe/Paris:20250415T180000
DTSTAMP:20260419T205554
CREATED:20250221T105353Z
LAST-MODIFIED:20250327T170259Z
UID:1065-1744707600-1744740000@farmaciagalvan.it
SUMMARY:Densitometria Ossea MOC
DESCRIPTION:L’esame MOC (Mineralometria Ossea Computerizzata) utilizza l’ultrasonografia del calcagno per determinare il rischio di osteoporosi alle ossa. La densitometria ossea si effettua sul calcagno perché risulta avere una struttura ossea dal punto di vista biomeccanico più simile a quella del femore e delle vertebre. I soggetti a cui è consigliato effettuare una densitometria ossea ad ultrasuoni sono le donne in menopausa\, gli anziani o in presenza di determinate patologie croniche e dall’assunzione di alcuni farmaci.L’ultrasonometria ossea del calcagno si effettua attraverso un apposito macchinario assolutamente indolore e senza rischi. Sul calcagno scelto\, di solito quello destro\, e sulle membrane dell’apparecchio si spruzza dell’alcool per favorire la propagazione degli ultrasuoni. Durante la MOC ad ultrasuoni il piede deve rimanere il più fermo possibile per i 10-15 secondi dell’esame. Per permettere un corretto svolgimento della densitometria ossea al calcagno sarebbe meglio non effettuare l’esame in presenza di ferite o fratture. \nI risultati sono immediati e potrai valutare insieme al farmacista l’eventualità di rivolgerti a un medico specialista oppure se avvalerti di  una consulenza complementare sullo stile di vita adeguato alla tua situazione\, quale attività fisica svolgere e gli integratori migliori da assumere. \nDurante la giornata possibilità di eseguire anche il test della Viotamina D a soli €15 anzichè €20 \nPer prenotare clicca sul seguente link : \nhttps://farmaciagalvan.it/servizi/altri-servizi/ \n \n 
URL:https://farmaciagalvan.it/evento/densitometria-ossea-moc/
LOCATION:Farmacia Galvan\, Viale Trieste 312/A\, Vicenza\, 36100\, Italy
ATTACH;FMTTYPE=image/jpeg:https://farmaciagalvan.it/wp-content/uploads/2025/02/MOC-seduta-Copia.jpg
END:VEVENT
END:VCALENDAR