BEGIN:VCALENDAR
VERSION:2.0
PRODID:-//Farmacia Galvan - ECPv6.15.20//NONSGML v1.0//EN
CALSCALE:GREGORIAN
METHOD:PUBLISH
X-WR-CALNAME:Farmacia Galvan
X-ORIGINAL-URL:https://farmaciagalvan.it
X-WR-CALDESC:Eventi per Farmacia Galvan
REFRESH-INTERVAL;VALUE=DURATION:PT1H
X-Robots-Tag:noindex
X-PUBLISHED-TTL:PT1H
BEGIN:VTIMEZONE
TZID:Europe/Paris
BEGIN:DAYLIGHT
TZOFFSETFROM:+0100
TZOFFSETTO:+0200
TZNAME:CEST
DTSTART:20240331T010000
END:DAYLIGHT
BEGIN:STANDARD
TZOFFSETFROM:+0200
TZOFFSETTO:+0100
TZNAME:CET
DTSTART:20241027T010000
END:STANDARD
BEGIN:DAYLIGHT
TZOFFSETFROM:+0100
TZOFFSETTO:+0200
TZNAME:CEST
DTSTART:20250330T010000
END:DAYLIGHT
BEGIN:STANDARD
TZOFFSETFROM:+0200
TZOFFSETTO:+0100
TZNAME:CET
DTSTART:20251026T010000
END:STANDARD
BEGIN:DAYLIGHT
TZOFFSETFROM:+0100
TZOFFSETTO:+0200
TZNAME:CEST
DTSTART:20260329T010000
END:DAYLIGHT
BEGIN:STANDARD
TZOFFSETFROM:+0200
TZOFFSETTO:+0100
TZNAME:CET
DTSTART:20261025T010000
END:STANDARD
END:VTIMEZONE
BEGIN:VEVENT
DTSTART;TZID=Europe/Paris:20250305T090000
DTEND;TZID=Europe/Paris:20250305T183000
DTSTAMP:20260420T020822
CREATED:20250226T112127Z
LAST-MODIFIED:20250226T112204Z
UID:1133-1741165200-1741199400@farmaciagalvan.it
SUMMARY:Sentirci Bene con gli apparechi acustici Polaroid
DESCRIPTION:Sentirci bene è possibile! Giornata di consulenze dedicata al benessere dell’udito.  \nPrenota la tua consulenza per scegliere l’amplificatore acustico retroauricolare più adatto a te. La tecnologia innovativa RIC\, con ricevitore nel canale uditivo\, si esprime in un equilibrio perfetto tra efficienza e dimensioni ridotte. \nLa consulenza è gratuita\, prenota qui: https://farmaciagalvan.it/servizi/altri-servizi/
URL:https://farmaciagalvan.it/evento/sentirci-bene-con-gli-apparechi-acustici-polaroid/
END:VEVENT
END:VCALENDAR